BEGIN:VCALENDAR
VERSION:2.0
PRODID:-//Halling Primary School - ECPv6.15.20//NONSGML v1.0//EN
CALSCALE:GREGORIAN
METHOD:PUBLISH
X-WR-CALNAME:Halling Primary School
X-ORIGINAL-URL:https://www.halling.medway.sch.uk
X-WR-CALDESC:Events for Halling Primary School
REFRESH-INTERVAL;VALUE=DURATION:PT1H
X-Robots-Tag:noindex
X-PUBLISHED-TTL:PT1H
BEGIN:VTIMEZONE
TZID:Europe/London
BEGIN:DAYLIGHT
TZOFFSETFROM:+0000
TZOFFSETTO:+0100
TZNAME:BST
DTSTART:20240331T010000
END:DAYLIGHT
BEGIN:STANDARD
TZOFFSETFROM:+0100
TZOFFSETTO:+0000
TZNAME:GMT
DTSTART:20241027T010000
END:STANDARD
BEGIN:DAYLIGHT
TZOFFSETFROM:+0000
TZOFFSETTO:+0100
TZNAME:BST
DTSTART:20250330T010000
END:DAYLIGHT
BEGIN:STANDARD
TZOFFSETFROM:+0100
TZOFFSETTO:+0000
TZNAME:GMT
DTSTART:20251026T010000
END:STANDARD
BEGIN:DAYLIGHT
TZOFFSETFROM:+0000
TZOFFSETTO:+0100
TZNAME:BST
DTSTART:20260329T010000
END:DAYLIGHT
BEGIN:STANDARD
TZOFFSETFROM:+0100
TZOFFSETTO:+0000
TZNAME:GMT
DTSTART:20261025T010000
END:STANDARD
END:VTIMEZONE
BEGIN:VEVENT
DTSTART;TZID=Europe/London:20250925T143000
DTEND;TZID=Europe/London:20250925T150000
DTSTAMP:20260421T201306
CREATED:20250910T120739Z
LAST-MODIFIED:20250910T120739Z
UID:18835-1758810600-1758812400@www.halling.medway.sch.uk
SUMMARY:Social Media and Electronic Devices Workshop (Parents and Carers)
DESCRIPTION:
URL:https://www.halling.medway.sch.uk/event/social-media-and-electronic-devices-workshop-parents-and-carers/
END:VEVENT
BEGIN:VEVENT
DTSTART;TZID=Europe/London:20250925T150000
DTEND;TZID=Europe/London:20250925T170000
DTSTAMP:20260421T201306
CREATED:20250910T120657Z
LAST-MODIFIED:20250910T120657Z
UID:18833-1758812400-1758819600@www.halling.medway.sch.uk
SUMMARY:Aletheia Trust Netball Tournament
DESCRIPTION:
URL:https://www.halling.medway.sch.uk/event/aletheia-trust-netball-tournament-2/
END:VEVENT
END:VCALENDAR