BEGIN:VCALENDAR
VERSION:2.0
PRODID:-//Halling Primary School - ECPv6.15.20//NONSGML v1.0//EN
CALSCALE:GREGORIAN
METHOD:PUBLISH
X-WR-CALNAME:Halling Primary School
X-ORIGINAL-URL:https://www.halling.medway.sch.uk
X-WR-CALDESC:Events for Halling Primary School
REFRESH-INTERVAL;VALUE=DURATION:PT1H
X-Robots-Tag:noindex
X-PUBLISHED-TTL:PT1H
BEGIN:VTIMEZONE
TZID:Europe/London
BEGIN:DAYLIGHT
TZOFFSETFROM:+0000
TZOFFSETTO:+0100
TZNAME:BST
DTSTART:20240331T010000
END:DAYLIGHT
BEGIN:STANDARD
TZOFFSETFROM:+0100
TZOFFSETTO:+0000
TZNAME:GMT
DTSTART:20241027T010000
END:STANDARD
BEGIN:DAYLIGHT
TZOFFSETFROM:+0000
TZOFFSETTO:+0100
TZNAME:BST
DTSTART:20250330T010000
END:DAYLIGHT
BEGIN:STANDARD
TZOFFSETFROM:+0100
TZOFFSETTO:+0000
TZNAME:GMT
DTSTART:20251026T010000
END:STANDARD
BEGIN:DAYLIGHT
TZOFFSETFROM:+0000
TZOFFSETTO:+0100
TZNAME:BST
DTSTART:20260329T010000
END:DAYLIGHT
BEGIN:STANDARD
TZOFFSETFROM:+0100
TZOFFSETTO:+0000
TZNAME:GMT
DTSTART:20261025T010000
END:STANDARD
END:VTIMEZONE
BEGIN:VEVENT
DTSTART;VALUE=DATE:20251013
DTEND;VALUE=DATE:20251014
DTSTAMP:20260421T214957
CREATED:20250910T121358Z
LAST-MODIFIED:20250910T121358Z
UID:18863-1760313600-1760399999@www.halling.medway.sch.uk
SUMMARY:Flu Immunisations
DESCRIPTION:
URL:https://www.halling.medway.sch.uk/event/flu-immunisations/
END:VEVENT
BEGIN:VEVENT
DTSTART;TZID=Europe/London:20251013T170000
DTEND;TZID=Europe/London:20251013T173000
DTSTAMP:20260421T214957
CREATED:20250910T121445Z
LAST-MODIFIED:20250910T121445Z
UID:18865-1760374800-1760376600@www.halling.medway.sch.uk
SUMMARY:Kent Test/11+ Parents Information Evening
DESCRIPTION:
URL:https://www.halling.medway.sch.uk/event/kent-test-11-parents-information-evening/
END:VEVENT
END:VCALENDAR