BEGIN:VCALENDAR
VERSION:2.0
PRODID:-//Halling Primary School - ECPv6.15.20//NONSGML v1.0//EN
CALSCALE:GREGORIAN
METHOD:PUBLISH
X-WR-CALNAME:Halling Primary School
X-ORIGINAL-URL:https://www.halling.medway.sch.uk
X-WR-CALDESC:Events for Halling Primary School
REFRESH-INTERVAL;VALUE=DURATION:PT1H
X-Robots-Tag:noindex
X-PUBLISHED-TTL:PT1H
BEGIN:VTIMEZONE
TZID:Europe/London
BEGIN:DAYLIGHT
TZOFFSETFROM:+0000
TZOFFSETTO:+0100
TZNAME:BST
DTSTART:20220327T010000
END:DAYLIGHT
BEGIN:STANDARD
TZOFFSETFROM:+0100
TZOFFSETTO:+0000
TZNAME:GMT
DTSTART:20221030T010000
END:STANDARD
BEGIN:DAYLIGHT
TZOFFSETFROM:+0000
TZOFFSETTO:+0100
TZNAME:BST
DTSTART:20230326T010000
END:DAYLIGHT
BEGIN:STANDARD
TZOFFSETFROM:+0100
TZOFFSETTO:+0000
TZNAME:GMT
DTSTART:20231029T010000
END:STANDARD
BEGIN:DAYLIGHT
TZOFFSETFROM:+0000
TZOFFSETTO:+0100
TZNAME:BST
DTSTART:20240331T010000
END:DAYLIGHT
BEGIN:STANDARD
TZOFFSETFROM:+0100
TZOFFSETTO:+0000
TZNAME:GMT
DTSTART:20241027T010000
END:STANDARD
END:VTIMEZONE
BEGIN:VEVENT
DTSTART;TZID=Europe/London:20230926T140000
DTEND;TZID=Europe/London:20230926T140000
DTSTAMP:20260419T214828
CREATED:20230912T131513Z
LAST-MODIFIED:20230912T131513Z
UID:16237-1695736800-1695736800@www.halling.medway.sch.uk
SUMMARY:PTA Annual General Meeting (AGM)
DESCRIPTION:
URL:https://www.halling.medway.sch.uk/event/pta-annual-general-meeting-agm/
CATEGORIES:PTA
END:VEVENT
BEGIN:VEVENT
DTSTART;TZID=Europe/London:20230922T000000
DTEND;TZID=Europe/London:20230922T000000
DTSTAMP:20260419T214828
CREATED:20230912T123819Z
LAST-MODIFIED:20230912T123832Z
UID:16233-1695340800-1695340800@www.halling.medway.sch.uk
SUMMARY:PTA Fundraising: Christmas Card Design Afternoon
DESCRIPTION:Helpers required so please email to sign up: PTA@halling.medway.sch.uk
URL:https://www.halling.medway.sch.uk/event/pta-fundraising-christmas-card-design-afternoon/
CATEGORIES:PTA
END:VEVENT
BEGIN:VEVENT
DTSTART;TZID=Europe/London:20230711T150000
DTEND;TZID=Europe/London:20230711T170000
DTSTAMP:20260419T214828
CREATED:20221117T092048Z
LAST-MODIFIED:20221117T092903Z
UID:14216-1689087600-1689094800@www.halling.medway.sch.uk
SUMMARY:PTA Disco
DESCRIPTION:
URL:https://www.halling.medway.sch.uk/event/pta-disco/
CATEGORIES:PTA
END:VEVENT
BEGIN:VEVENT
DTSTART;VALUE=DATE:20230624
DTEND;VALUE=DATE:20230625
DTSTAMP:20260419T214828
CREATED:20221117T091717Z
LAST-MODIFIED:20221117T091717Z
UID:14208-1687564800-1687651199@www.halling.medway.sch.uk
SUMMARY:PTA Summer Fete
DESCRIPTION:
URL:https://www.halling.medway.sch.uk/event/pta-summer-fete/
CATEGORIES:PTA
END:VEVENT
BEGIN:VEVENT
DTSTART;VALUE=DATE:20230616
DTEND;VALUE=DATE:20230617
DTSTAMP:20260419T214828
CREATED:20221117T091608Z
LAST-MODIFIED:20221117T091608Z
UID:14204-1686873600-1686959999@www.halling.medway.sch.uk
SUMMARY:PTA Father's Day Shop
DESCRIPTION:
URL:https://www.halling.medway.sch.uk/event/pta-fathers-day-shop/
CATEGORIES:PTA
END:VEVENT
BEGIN:VEVENT
DTSTART;TZID=Europe/London:20230331T133000
DTEND;TZID=Europe/London:20230331T143000
DTSTAMP:20260419T214828
CREATED:20221117T090218Z
LAST-MODIFIED:20221117T092621Z
UID:14184-1680269400-1680273000@www.halling.medway.sch.uk
SUMMARY:PTA Easter Egg Hunt
DESCRIPTION:
URL:https://www.halling.medway.sch.uk/event/pta-easter-egg-hunt/
CATEGORIES:PTA
END:VEVENT
BEGIN:VEVENT
DTSTART;VALUE=DATE:20230317
DTEND;VALUE=DATE:20230318
DTSTAMP:20260419T214828
CREATED:20221117T092927Z
LAST-MODIFIED:20221117T092927Z
UID:14232-1679011200-1679097599@www.halling.medway.sch.uk
SUMMARY:PTA Mum's Day Shop
DESCRIPTION:
URL:https://www.halling.medway.sch.uk/event/pta-mums-day-shop/
CATEGORIES:PTA
END:VEVENT
BEGIN:VEVENT
DTSTART;TZID=Europe/London:20230224T170000
DTEND;TZID=Europe/London:20230224T190000
DTSTAMP:20260419T214828
CREATED:20221117T085541Z
LAST-MODIFIED:20221117T092957Z
UID:14168-1677258000-1677265200@www.halling.medway.sch.uk
SUMMARY:PTA Quiz Night
DESCRIPTION:
URL:https://www.halling.medway.sch.uk/event/pta-quiz/
CATEGORIES:PTA
END:VEVENT
END:VCALENDAR