BEGIN:VCALENDAR
VERSION:2.0
PRODID:-//Halling Primary School - ECPv6.15.20//NONSGML v1.0//EN
CALSCALE:GREGORIAN
METHOD:PUBLISH
X-WR-CALNAME:Halling Primary School
X-ORIGINAL-URL:https://www.halling.medway.sch.uk
X-WR-CALDESC:Events for Halling Primary School
REFRESH-INTERVAL;VALUE=DURATION:PT1H
X-Robots-Tag:noindex
X-PUBLISHED-TTL:PT1H
BEGIN:VTIMEZONE
TZID:Europe/London
BEGIN:DAYLIGHT
TZOFFSETFROM:+0000
TZOFFSETTO:+0100
TZNAME:BST
DTSTART:20230326T010000
END:DAYLIGHT
BEGIN:STANDARD
TZOFFSETFROM:+0100
TZOFFSETTO:+0000
TZNAME:GMT
DTSTART:20231029T010000
END:STANDARD
BEGIN:DAYLIGHT
TZOFFSETFROM:+0000
TZOFFSETTO:+0100
TZNAME:BST
DTSTART:20240331T010000
END:DAYLIGHT
BEGIN:STANDARD
TZOFFSETFROM:+0100
TZOFFSETTO:+0000
TZNAME:GMT
DTSTART:20241027T010000
END:STANDARD
BEGIN:DAYLIGHT
TZOFFSETFROM:+0000
TZOFFSETTO:+0100
TZNAME:BST
DTSTART:20250330T010000
END:DAYLIGHT
BEGIN:STANDARD
TZOFFSETFROM:+0100
TZOFFSETTO:+0000
TZNAME:GMT
DTSTART:20251026T010000
END:STANDARD
BEGIN:DAYLIGHT
TZOFFSETFROM:+0000
TZOFFSETTO:+0100
TZNAME:BST
DTSTART:20260329T010000
END:DAYLIGHT
BEGIN:STANDARD
TZOFFSETFROM:+0100
TZOFFSETTO:+0000
TZNAME:GMT
DTSTART:20261025T010000
END:STANDARD
END:VTIMEZONE
BEGIN:VEVENT
DTSTART;TZID=Europe/London:20250122T170000
DTEND;TZID=Europe/London:20250122T190000
DTSTAMP:20260420T104807
CREATED:20250116T150441Z
LAST-MODIFIED:20250116T150451Z
UID:18066-1737565200-1737572400@www.halling.medway.sch.uk
SUMMARY:Year 6 Prom
DESCRIPTION:
URL:https://www.halling.medway.sch.uk/event/prom/
END:VEVENT
BEGIN:VEVENT
DTSTART;VALUE=DATE:20250107
DTEND;VALUE=DATE:20250108
DTSTAMP:20260420T104807
CREATED:20240110T080813Z
LAST-MODIFIED:20240730T131407Z
UID:16548-1736208000-1736294399@www.halling.medway.sch.uk
SUMMARY:First Day of Term 3
DESCRIPTION:
URL:https://www.halling.medway.sch.uk/event/first-day-of-term-3-4/
CATEGORIES:Term Dates
END:VEVENT
BEGIN:VEVENT
DTSTART;VALUE=DATE:20250106
DTEND;VALUE=DATE:20250107
DTSTAMP:20260420T104807
CREATED:20220907T113953Z
LAST-MODIFIED:20240730T131648Z
UID:12277-1736121600-1736207999@www.halling.medway.sch.uk
SUMMARY:Staff inset day - children not in school.
DESCRIPTION:
URL:https://www.halling.medway.sch.uk/event/staff-inset-day/
CATEGORIES:Term Dates
END:VEVENT
BEGIN:VEVENT
DTSTART;VALUE=DATE:20241220
DTEND;VALUE=DATE:20241221
DTSTAMP:20260420T104807
CREATED:20220907T113953Z
LAST-MODIFIED:20240730T131336Z
UID:12276-1734652800-1734739199@www.halling.medway.sch.uk
SUMMARY:Last day of Term 2
DESCRIPTION:
URL:https://www.halling.medway.sch.uk/event/last-day-of-term-2/
CATEGORIES:Term Dates
END:VEVENT
BEGIN:VEVENT
DTSTART;TZID=Europe/London:20241212T170000
DTEND;TZID=Europe/London:20241212T180000
DTSTAMP:20260420T104807
CREATED:20240730T132148Z
LAST-MODIFIED:20240730T132148Z
UID:17192-1734022800-1734026400@www.halling.medway.sch.uk
SUMMARY:Open Evening
DESCRIPTION:
URL:https://www.halling.medway.sch.uk/event/open-evening-2/
END:VEVENT
BEGIN:VEVENT
DTSTART;TZID=Europe/London:20241205T170000
DTEND;TZID=Europe/London:20241205T180000
DTSTAMP:20260420T104807
CREATED:20240730T132128Z
LAST-MODIFIED:20240730T132128Z
UID:17190-1733418000-1733421600@www.halling.medway.sch.uk
SUMMARY:Open Evening
DESCRIPTION:
URL:https://www.halling.medway.sch.uk/event/open-evening/
END:VEVENT
BEGIN:VEVENT
DTSTART;TZID=Europe/London:20241129T144500
DTEND;TZID=Europe/London:20241129T150000
DTSTAMP:20260420T104807
CREATED:20240730T132504Z
LAST-MODIFIED:20240730T132504Z
UID:17206-1732891500-1732892400@www.halling.medway.sch.uk
SUMMARY:Story Time Session
DESCRIPTION:
URL:https://www.halling.medway.sch.uk/event/story-time-session-7/
END:VEVENT
BEGIN:VEVENT
DTSTART;TZID=Europe/London:20241128T094500
DTEND;TZID=Europe/London:20241128T110000
DTSTAMP:20260420T104807
CREATED:20240730T132051Z
LAST-MODIFIED:20240730T132051Z
UID:17188-1732787100-1732791600@www.halling.medway.sch.uk
SUMMARY:Open Morning
DESCRIPTION:
URL:https://www.halling.medway.sch.uk/event/open-morning-7/
END:VEVENT
BEGIN:VEVENT
DTSTART;TZID=Europe/London:20241122T144500
DTEND;TZID=Europe/London:20241122T150000
DTSTAMP:20260420T104807
CREATED:20240730T132439Z
LAST-MODIFIED:20240730T132439Z
UID:17204-1732286700-1732287600@www.halling.medway.sch.uk
SUMMARY:Story Time Session
DESCRIPTION:
URL:https://www.halling.medway.sch.uk/event/story-time-session-6/
END:VEVENT
BEGIN:VEVENT
DTSTART;TZID=Europe/London:20241121T094500
DTEND;TZID=Europe/London:20241121T110000
DTSTAMP:20260420T104808
CREATED:20240730T132031Z
LAST-MODIFIED:20240730T132031Z
UID:17186-1732182300-1732186800@www.halling.medway.sch.uk
SUMMARY:Open Morning
DESCRIPTION:
URL:https://www.halling.medway.sch.uk/event/open-morning-6/
END:VEVENT
BEGIN:VEVENT
DTSTART;TZID=Europe/London:20241115T144500
DTEND;TZID=Europe/London:20241115T150000
DTSTAMP:20260420T104808
CREATED:20240730T132419Z
LAST-MODIFIED:20240730T132419Z
UID:17202-1731681900-1731682800@www.halling.medway.sch.uk
SUMMARY:Story Time Session
DESCRIPTION:
URL:https://www.halling.medway.sch.uk/event/story-time-session-5/
END:VEVENT
BEGIN:VEVENT
DTSTART;TZID=Europe/London:20241114T094500
DTEND;TZID=Europe/London:20241114T110000
DTSTAMP:20260420T104808
CREATED:20240730T132008Z
LAST-MODIFIED:20240730T132008Z
UID:17184-1731577500-1731582000@www.halling.medway.sch.uk
SUMMARY:Open Morning
DESCRIPTION:
URL:https://www.halling.medway.sch.uk/event/open-morning-5/
END:VEVENT
BEGIN:VEVENT
DTSTART;TZID=Europe/London:20241108T144500
DTEND;TZID=Europe/London:20241108T150000
DTSTAMP:20260420T104808
CREATED:20240730T132359Z
LAST-MODIFIED:20240730T132359Z
UID:17200-1731077100-1731078000@www.halling.medway.sch.uk
SUMMARY:Story Time Session
DESCRIPTION:
URL:https://www.halling.medway.sch.uk/event/story-time-session-4/
END:VEVENT
BEGIN:VEVENT
DTSTART;TZID=Europe/London:20241107T094500
DTEND;TZID=Europe/London:20241107T110000
DTSTAMP:20260420T104808
CREATED:20240730T131945Z
LAST-MODIFIED:20240730T131945Z
UID:17182-1730972700-1730977200@www.halling.medway.sch.uk
SUMMARY:Open Morning
DESCRIPTION:
URL:https://www.halling.medway.sch.uk/event/open-morning-4/
END:VEVENT
BEGIN:VEVENT
DTSTART;VALUE=DATE:20241023
DTEND;VALUE=DATE:20241024
DTSTAMP:20260420T104808
CREATED:20220907T114553Z
LAST-MODIFIED:20240730T131631Z
UID:12290-1729641600-1729727999@www.halling.medway.sch.uk
SUMMARY:Staff inset day- children not in school.
DESCRIPTION:
URL:https://www.halling.medway.sch.uk/event/staff-inset-day-children-not-in-school-5/
CATEGORIES:Term Dates
END:VEVENT
BEGIN:VEVENT
DTSTART;TZID=Europe/London:20241018T144500
DTEND;TZID=Europe/London:20241018T150000
DTSTAMP:20260420T104808
CREATED:20240730T132335Z
LAST-MODIFIED:20240730T132335Z
UID:17198-1729262700-1729263600@www.halling.medway.sch.uk
SUMMARY:Story Time Session
DESCRIPTION:
URL:https://www.halling.medway.sch.uk/event/story-time-session-3/
END:VEVENT
BEGIN:VEVENT
DTSTART;TZID=Europe/London:20241017T094500
DTEND;TZID=Europe/London:20241017T110000
DTSTAMP:20260420T104808
CREATED:20240730T131923Z
LAST-MODIFIED:20240730T131923Z
UID:17180-1729158300-1729162800@www.halling.medway.sch.uk
SUMMARY:Open Morning
DESCRIPTION:
URL:https://www.halling.medway.sch.uk/event/open-morning-3/
END:VEVENT
BEGIN:VEVENT
DTSTART;TZID=Europe/London:20241015T170000
DTEND;TZID=Europe/London:20241015T180000
DTSTAMP:20260420T104808
CREATED:20240930T120814Z
LAST-MODIFIED:20240930T120814Z
UID:17743-1729011600-1729015200@www.halling.medway.sch.uk
SUMMARY:Parent and Carers Little Wandle Parents workshop for EYFS\, Year 1 and Year 2.
DESCRIPTION:
URL:https://www.halling.medway.sch.uk/event/parent-and-carers-little-wandle-parents-workshop-for-eyfs-year-1-and-year-2/
END:VEVENT
BEGIN:VEVENT
DTSTART;TZID=Europe/London:20241011T144500
DTEND;TZID=Europe/London:20241011T150000
DTSTAMP:20260420T104808
CREATED:20240730T132313Z
LAST-MODIFIED:20240730T132313Z
UID:17196-1728657900-1728658800@www.halling.medway.sch.uk
SUMMARY:Story Time Session
DESCRIPTION:
URL:https://www.halling.medway.sch.uk/event/story-time-session-2/
END:VEVENT
BEGIN:VEVENT
DTSTART;TZID=Europe/London:20241011T143000
DTEND;TZID=Europe/London:20241011T153000
DTSTAMP:20260420T104808
CREATED:20240930T143838Z
LAST-MODIFIED:20240930T143838Z
UID:17745-1728657000-1728660600@www.halling.medway.sch.uk
SUMMARY:Social Media and Device workshop for parents
DESCRIPTION:
URL:https://www.halling.medway.sch.uk/event/social-media-and-device-workshop-for-parents/
END:VEVENT
BEGIN:VEVENT
DTSTART;TZID=Europe/London:20241010T094500
DTEND;TZID=Europe/London:20241010T110000
DTSTAMP:20260420T104808
CREATED:20240730T131858Z
LAST-MODIFIED:20240730T131858Z
UID:17178-1728553500-1728558000@www.halling.medway.sch.uk
SUMMARY:Open Morning
DESCRIPTION:
URL:https://www.halling.medway.sch.uk/event/open-morning-2/
END:VEVENT
BEGIN:VEVENT
DTSTART;TZID=Europe/London:20241004T144500
DTEND;TZID=Europe/London:20241004T150000
DTSTAMP:20260420T104808
CREATED:20240730T132246Z
LAST-MODIFIED:20240730T132246Z
UID:17194-1728053100-1728054000@www.halling.medway.sch.uk
SUMMARY:Story Time Session
DESCRIPTION:
URL:https://www.halling.medway.sch.uk/event/story-time-session/
END:VEVENT
BEGIN:VEVENT
DTSTART;TZID=Europe/London:20241003T094500
DTEND;TZID=Europe/London:20241003T110000
DTSTAMP:20260420T104808
CREATED:20240730T131831Z
LAST-MODIFIED:20240730T131831Z
UID:17176-1727948700-1727953200@www.halling.medway.sch.uk
SUMMARY:Open Morning
DESCRIPTION:
URL:https://www.halling.medway.sch.uk/event/open-morning/
END:VEVENT
BEGIN:VEVENT
DTSTART;VALUE=DATE:20240902
DTEND;VALUE=DATE:20240903
DTSTAMP:20260420T104808
CREATED:20220907T114947Z
LAST-MODIFIED:20240730T131612Z
UID:12304-1725235200-1725321599@www.halling.medway.sch.uk
SUMMARY:Staff inset day - children not in school.
DESCRIPTION:
URL:https://www.halling.medway.sch.uk/event/staff-inset-day-children-not-in-school-6/
CATEGORIES:Term Dates
END:VEVENT
BEGIN:VEVENT
DTSTART;VALUE=DATE:20240328
DTEND;VALUE=DATE:20240329
DTSTAMP:20260420T104808
CREATED:20240110T084134Z
LAST-MODIFIED:20240110T084134Z
UID:16613-1711584000-1711670399@www.halling.medway.sch.uk
SUMMARY:Staff Development Day
DESCRIPTION:
URL:https://www.halling.medway.sch.uk/event/staff-development-day-4/
CATEGORIES:Term Dates
END:VEVENT
BEGIN:VEVENT
DTSTART;TZID=Europe/London:20240327T153000
DTEND;TZID=Europe/London:20240327T170000
DTSTAMP:20260420T104808
CREATED:20240110T083942Z
LAST-MODIFIED:20240110T083942Z
UID:16609-1711553400-1711558800@www.halling.medway.sch.uk
SUMMARY:Trust Basketball Tournament
DESCRIPTION:
URL:https://www.halling.medway.sch.uk/event/trust-basketball-tournament/
CATEGORIES:School
END:VEVENT
BEGIN:VEVENT
DTSTART;VALUE=DATE:20240327
DTEND;VALUE=DATE:20240328
DTSTAMP:20260420T104808
CREATED:20240110T083848Z
LAST-MODIFIED:20240110T083848Z
UID:16607-1711497600-1711583999@www.halling.medway.sch.uk
SUMMARY:PTA | Disco
DESCRIPTION:
URL:https://www.halling.medway.sch.uk/event/pta-disco-3/
CATEGORIES:PTA
END:VEVENT
BEGIN:VEVENT
DTSTART;VALUE=DATE:20240327
DTEND;VALUE=DATE:20240328
DTSTAMP:20260420T104808
CREATED:20240110T083705Z
LAST-MODIFIED:20240110T083809Z
UID:16605-1711497600-1711583999@www.halling.medway.sch.uk
SUMMARY:PTA | Easter Egg Hunt
DESCRIPTION:
URL:https://www.halling.medway.sch.uk/event/pta-easter-egg-hunt-2/
CATEGORIES:PTA
END:VEVENT
BEGIN:VEVENT
DTSTART;VALUE=DATE:20240326
DTEND;VALUE=DATE:20240327
DTSTAMP:20260420T104808
CREATED:20240110T083606Z
LAST-MODIFIED:20240110T083606Z
UID:16603-1711411200-1711497599@www.halling.medway.sch.uk
SUMMARY:Trust Choir Concert at The Woodville Halls
DESCRIPTION:
URL:https://www.halling.medway.sch.uk/event/trust-choir-concert-at-the-woodville-halls/
CATEGORIES:School
END:VEVENT
BEGIN:VEVENT
DTSTART;VALUE=DATE:20240312
DTEND;VALUE=DATE:20240313
DTSTAMP:20260420T104808
CREATED:20240110T083332Z
LAST-MODIFIED:20240110T083332Z
UID:16599-1710201600-1710287999@www.halling.medway.sch.uk
SUMMARY:Red Nose Day
DESCRIPTION:
URL:https://www.halling.medway.sch.uk/event/red-nose-day/
CATEGORIES:School
END:VEVENT
END:VCALENDAR