BEGIN:VCALENDAR
VERSION:2.0
PRODID:-//Halling Primary School - ECPv6.15.20//NONSGML v1.0//EN
CALSCALE:GREGORIAN
METHOD:PUBLISH
X-ORIGINAL-URL:https://www.halling.medway.sch.uk
X-WR-CALDESC:Events for Halling Primary School
REFRESH-INTERVAL;VALUE=DURATION:PT1H
X-Robots-Tag:noindex
X-PUBLISHED-TTL:PT1H
BEGIN:VTIMEZONE
TZID:Europe/London
BEGIN:DAYLIGHT
TZOFFSETFROM:+0000
TZOFFSETTO:+0100
TZNAME:BST
DTSTART:20250330T010000
END:DAYLIGHT
BEGIN:STANDARD
TZOFFSETFROM:+0100
TZOFFSETTO:+0000
TZNAME:GMT
DTSTART:20251026T010000
END:STANDARD
BEGIN:DAYLIGHT
TZOFFSETFROM:+0000
TZOFFSETTO:+0100
TZNAME:BST
DTSTART:20260329T010000
END:DAYLIGHT
BEGIN:STANDARD
TZOFFSETFROM:+0100
TZOFFSETTO:+0000
TZNAME:GMT
DTSTART:20261025T010000
END:STANDARD
BEGIN:DAYLIGHT
TZOFFSETFROM:+0000
TZOFFSETTO:+0100
TZNAME:BST
DTSTART:20270328T010000
END:DAYLIGHT
BEGIN:STANDARD
TZOFFSETFROM:+0100
TZOFFSETTO:+0000
TZNAME:GMT
DTSTART:20271031T010000
END:STANDARD
END:VTIMEZONE
BEGIN:VEVENT
DTSTART;VALUE=DATE:20260313
DTEND;VALUE=DATE:20260314
DTSTAMP:20260424T151954
CREATED:20240905T150343Z
LAST-MODIFIED:20240905T150343Z
UID:17346-1773360000-1773446399@www.halling.medway.sch.uk
SUMMARY:Staff Development Day (Trust Day)
DESCRIPTION:No Pupils in school
URL:https://www.halling.medway.sch.uk/event/staff-development-day-trust-day/
END:VEVENT
BEGIN:VEVENT
DTSTART;VALUE=DATE:20260317
DTEND;VALUE=DATE:20260318
DTSTAMP:20260424T151954
CREATED:20260109T141423Z
LAST-MODIFIED:20260109T141423Z
UID:19257-1773705600-1773791999@www.halling.medway.sch.uk
SUMMARY:British Science Week Workshop
DESCRIPTION:
URL:https://www.halling.medway.sch.uk/event/british-science-week-workshop/
END:VEVENT
BEGIN:VEVENT
DTSTART;VALUE=DATE:20260317
DTEND;VALUE=DATE:20260318
DTSTAMP:20260424T151954
CREATED:20260109T141544Z
LAST-MODIFIED:20260109T141544Z
UID:19259-1773705600-1773791999@www.halling.medway.sch.uk
SUMMARY:Medway Youth Games: Netball
DESCRIPTION:
URL:https://www.halling.medway.sch.uk/event/medway-youth-games-netball/
END:VEVENT
BEGIN:VEVENT
DTSTART;VALUE=DATE:20260317
DTEND;VALUE=DATE:20260318
DTSTAMP:20260424T151954
CREATED:20260109T141610Z
LAST-MODIFIED:20260109T141610Z
UID:19261-1773705600-1773791999@www.halling.medway.sch.uk
SUMMARY:Aletheia Games: Tag Rugby
DESCRIPTION:
URL:https://www.halling.medway.sch.uk/event/aletheia-games-tag-rugby/
END:VEVENT
BEGIN:VEVENT
DTSTART;VALUE=DATE:20260319
DTEND;VALUE=DATE:20260320
DTSTAMP:20260424T151954
CREATED:20260109T141637Z
LAST-MODIFIED:20260109T141637Z
UID:19263-1773878400-1773964799@www.halling.medway.sch.uk
SUMMARY:Roots to Food Cookery Workshop
DESCRIPTION:
URL:https://www.halling.medway.sch.uk/event/roots-to-food-cookery-workshop-3/
END:VEVENT
BEGIN:VEVENT
DTSTART;TZID=Europe/London:20260319T090000
DTEND;TZID=Europe/London:20260319T110000
DTSTAMP:20260424T151954
CREATED:20260109T141711Z
LAST-MODIFIED:20260109T141711Z
UID:19265-1773910800-1773918000@www.halling.medway.sch.uk
SUMMARY:Class Assembly - Ladybirds
DESCRIPTION:
URL:https://www.halling.medway.sch.uk/event/class-assembly-ladybirds/
END:VEVENT
BEGIN:VEVENT
DTSTART;VALUE=DATE:20260320
DTEND;VALUE=DATE:20260321
DTSTAMP:20260424T151954
CREATED:20260109T141755Z
LAST-MODIFIED:20260109T141755Z
UID:19267-1773964800-1774051199@www.halling.medway.sch.uk
SUMMARY:Comic Relief - Red Nose Day
DESCRIPTION:
URL:https://www.halling.medway.sch.uk/event/comic-relief-red-nose-day/
END:VEVENT
BEGIN:VEVENT
DTSTART;TZID=Europe/London:20260323T153000
DTEND;TZID=Europe/London:20260323T180000
DTSTAMP:20260424T151954
CREATED:20260109T141859Z
LAST-MODIFIED:20260109T141859Z
UID:19269-1774279800-1774288800@www.halling.medway.sch.uk
SUMMARY:Parent Consultations
DESCRIPTION:
URL:https://www.halling.medway.sch.uk/event/parent-consultations-3/
END:VEVENT
BEGIN:VEVENT
DTSTART;TZID=Europe/London:20260326T090000
DTEND;TZID=Europe/London:20260326T110000
DTSTAMP:20260424T151954
CREATED:20260109T141931Z
LAST-MODIFIED:20260109T141931Z
UID:19271-1774515600-1774522800@www.halling.medway.sch.uk
SUMMARY:Class Assembly - Leopards
DESCRIPTION:
URL:https://www.halling.medway.sch.uk/event/class-assembly-leopards/
END:VEVENT
BEGIN:VEVENT
DTSTART;TZID=Europe/London:20260326T153000
DTEND;TZID=Europe/London:20260326T193000
DTSTAMP:20260424T151954
CREATED:20260109T142011Z
LAST-MODIFIED:20260109T142011Z
UID:19273-1774539000-1774553400@www.halling.medway.sch.uk
SUMMARY:Parent Consultations
DESCRIPTION:
URL:https://www.halling.medway.sch.uk/event/parent-consultations-4/
END:VEVENT
BEGIN:VEVENT
DTSTART;VALUE=DATE:20260402
DTEND;VALUE=DATE:20260403
DTSTAMP:20260424T151954
CREATED:20240905T150300Z
LAST-MODIFIED:20240905T150300Z
UID:17338-1775088000-1775174399@www.halling.medway.sch.uk
SUMMARY:End of Term 4
DESCRIPTION:
URL:https://www.halling.medway.sch.uk/event/end-of-term-4/
END:VEVENT
BEGIN:VEVENT
DTSTART;VALUE=DATE:20260402
DTEND;VALUE=DATE:20260403
DTSTAMP:20260424T151954
CREATED:20260109T142035Z
LAST-MODIFIED:20260109T142035Z
UID:19275-1775088000-1775174399@www.halling.medway.sch.uk
SUMMARY:PTA Easter Egg Hunt
DESCRIPTION:
URL:https://www.halling.medway.sch.uk/event/pta-easter-egg-hunt-4/
CATEGORIES:PTA
END:VEVENT
BEGIN:VEVENT
DTSTART;VALUE=DATE:20260403
DTEND;VALUE=DATE:20260404
DTSTAMP:20260424T151954
CREATED:20240905T150343Z
LAST-MODIFIED:20240905T150343Z
UID:17348-1775174400-1775260799@www.halling.medway.sch.uk
SUMMARY:Bank Holiday
DESCRIPTION:No Pupils in school
URL:https://www.halling.medway.sch.uk/event/bank-holiday-4/
END:VEVENT
BEGIN:VEVENT
DTSTART;VALUE=DATE:20260420
DTEND;VALUE=DATE:20260421
DTSTAMP:20260424T151954
CREATED:20240905T150258Z
LAST-MODIFIED:20240905T150258Z
UID:17333-1776643200-1776729599@www.halling.medway.sch.uk
SUMMARY:Start of Term 5
DESCRIPTION:
URL:https://www.halling.medway.sch.uk/event/start-of-term-5/
END:VEVENT
BEGIN:VEVENT
DTSTART;VALUE=DATE:20260424
DTEND;VALUE=DATE:20260425
DTSTAMP:20260424T151954
CREATED:20260424T132217Z
LAST-MODIFIED:20260424T132239Z
UID:19514-1776988800-1777075199@www.halling.medway.sch.uk
SUMMARY:Medway Road Safety - Independent Travel - Year 5
DESCRIPTION:
URL:https://www.halling.medway.sch.uk/event/medway-road-safety-independent-travel-year-4/
CATEGORIES:School
END:VEVENT
BEGIN:VEVENT
DTSTART;VALUE=DATE:20260424
DTEND;VALUE=DATE:20260425
DTSTAMP:20260424T151954
CREATED:20260424T135735Z
LAST-MODIFIED:20260424T135735Z
UID:19585-1776988800-1777075199@www.halling.medway.sch.uk
SUMMARY:Medway Road Safety Workshop - Year 6
DESCRIPTION:
URL:https://www.halling.medway.sch.uk/event/medway-road-safety-workshop-year-6/
END:VEVENT
BEGIN:VEVENT
DTSTART;TZID=Europe/London:20260428T153000
DTEND;TZID=Europe/London:20260428T170000
DTSTAMP:20260424T151954
CREATED:20260424T132106Z
LAST-MODIFIED:20260424T132106Z
UID:19512-1777390200-1777395600@www.halling.medway.sch.uk
SUMMARY:Open Classroom
DESCRIPTION:
URL:https://www.halling.medway.sch.uk/event/open-classroom/
CATEGORIES:School
END:VEVENT
BEGIN:VEVENT
DTSTART;VALUE=DATE:20260430
DTEND;VALUE=DATE:20260501
DTSTAMP:20260424T151954
CREATED:20260424T132313Z
LAST-MODIFIED:20260424T132313Z
UID:19517-1777507200-1777593599@www.halling.medway.sch.uk
SUMMARY:Road Safety Workshop - Year 4
DESCRIPTION:
URL:https://www.halling.medway.sch.uk/event/road-safety-workshop-year-4/
END:VEVENT
BEGIN:VEVENT
DTSTART;TZID=Europe/London:20260430T090000
DTEND;TZID=Europe/London:20260430T100000
DTSTAMP:20260424T151954
CREATED:20260424T132351Z
LAST-MODIFIED:20260424T132351Z
UID:19519-1777539600-1777543200@www.halling.medway.sch.uk
SUMMARY:Class Assembly | Penguins
DESCRIPTION:
URL:https://www.halling.medway.sch.uk/event/class-assembly-penguins/
CATEGORIES:School
END:VEVENT
BEGIN:VEVENT
DTSTART;VALUE=DATE:20260504
DTEND;VALUE=DATE:20260505
DTSTAMP:20260424T151954
CREATED:20240905T150435Z
LAST-MODIFIED:20240905T150435Z
UID:17349-1777852800-1777939199@www.halling.medway.sch.uk
SUMMARY:Bank Holiday
DESCRIPTION:No Pupils in school
URL:https://www.halling.medway.sch.uk/event/bank-holiday-5/
END:VEVENT
BEGIN:VEVENT
DTSTART;VALUE=DATE:20260507
DTEND;VALUE=DATE:20260508
DTSTAMP:20260424T151954
CREATED:20260424T132439Z
LAST-MODIFIED:20260424T132439Z
UID:19521-1778112000-1778198399@www.halling.medway.sch.uk
SUMMARY:Roots to Food Cookery Workshop - Years 1 & 2
DESCRIPTION:
URL:https://www.halling.medway.sch.uk/event/roots-to-food-cookery-workshop-years-1-2/
CATEGORIES:School
END:VEVENT
BEGIN:VEVENT
DTSTART;TZID=Europe/London:20260508T080000
DTEND;TZID=Europe/London:20260508T170000
DTSTAMP:20260424T151954
CREATED:20260424T132526Z
LAST-MODIFIED:20260424T132526Z
UID:19523-1778227200-1778259600@www.halling.medway.sch.uk
SUMMARY:150th Anniversary Celebration - 150 Photo
DESCRIPTION:
URL:https://www.halling.medway.sch.uk/event/150th-anniversary-celebration-150-photo/
CATEGORIES:School
END:VEVENT
BEGIN:VEVENT
DTSTART;VALUE=DATE:20260511
DTEND;VALUE=DATE:20260515
DTSTAMP:20260424T151954
CREATED:20260424T132558Z
LAST-MODIFIED:20260424T132558Z
UID:19525-1778457600-1778803199@www.halling.medway.sch.uk
SUMMARY:Year 6 SATs Week
DESCRIPTION:
URL:https://www.halling.medway.sch.uk/event/year-6-sats-week-4/
CATEGORIES:School
END:VEVENT
BEGIN:VEVENT
DTSTART;VALUE=DATE:20260513
DTEND;VALUE=DATE:20260514
DTSTAMP:20260424T151954
CREATED:20260424T132631Z
LAST-MODIFIED:20260424T132631Z
UID:19527-1778630400-1778716799@www.halling.medway.sch.uk
SUMMARY:Road Safety Workshop - Year 3
DESCRIPTION:
URL:https://www.halling.medway.sch.uk/event/road-safety-workshop-year-3/
CATEGORIES:School
END:VEVENT
BEGIN:VEVENT
DTSTART;VALUE=DATE:20260515
DTEND;VALUE=DATE:20260516
DTSTAMP:20260424T151954
CREATED:20260424T132722Z
LAST-MODIFIED:20260424T132722Z
UID:19529-1778803200-1778889599@www.halling.medway.sch.uk
SUMMARY:150th Anniversary Celebration
DESCRIPTION:
URL:https://www.halling.medway.sch.uk/event/150th-anniversary-celebration/
CATEGORIES:School
END:VEVENT
BEGIN:VEVENT
DTSTART;TZID=Europe/London:20260521T080000
DTEND;TZID=Europe/London:20260521T170000
DTSTAMP:20260424T151954
CREATED:20260424T132809Z
LAST-MODIFIED:20260424T132809Z
UID:19531-1779350400-1779382800@www.halling.medway.sch.uk
SUMMARY:Census Day - Themed Lunch Menu
DESCRIPTION:
URL:https://www.halling.medway.sch.uk/event/census-day-themed-lunch-menu/
CATEGORIES:School
END:VEVENT
BEGIN:VEVENT
DTSTART;TZID=Europe/London:20260521T080000
DTEND;TZID=Europe/London:20260521T170000
DTSTAMP:20260424T151954
CREATED:20260424T132943Z
LAST-MODIFIED:20260424T132943Z
UID:19535-1779350400-1779382800@www.halling.medway.sch.uk
SUMMARY:MYG Tag Rugby Tournament
DESCRIPTION:
URL:https://www.halling.medway.sch.uk/event/myg-tag-rugby-tournament/
CATEGORIES:School
END:VEVENT
BEGIN:VEVENT
DTSTART;TZID=Europe/London:20260521T090000
DTEND;TZID=Europe/London:20260521T100000
DTSTAMP:20260424T151954
CREATED:20260424T132851Z
LAST-MODIFIED:20260424T132851Z
UID:19533-1779354000-1779357600@www.halling.medway.sch.uk
SUMMARY:Class Assembly - Bears
DESCRIPTION:
URL:https://www.halling.medway.sch.uk/event/class-assembly-bears/
CATEGORIES:School
END:VEVENT
BEGIN:VEVENT
DTSTART;TZID=Europe/London:20260521T150000
DTEND;TZID=Europe/London:20260521T173000
DTSTAMP:20260424T151954
CREATED:20260424T133022Z
LAST-MODIFIED:20260424T133022Z
UID:19537-1779375600-1779384600@www.halling.medway.sch.uk
SUMMARY:Aletheia Football Tournament
DESCRIPTION:
URL:https://www.halling.medway.sch.uk/event/aletheia-football-tournament/
CATEGORIES:School
END:VEVENT
BEGIN:VEVENT
DTSTART;VALUE=DATE:20260522
DTEND;VALUE=DATE:20260523
DTSTAMP:20260424T151954
CREATED:20240905T150316Z
LAST-MODIFIED:20240905T150316Z
UID:17339-1779408000-1779494399@www.halling.medway.sch.uk
SUMMARY:End of Term 5
DESCRIPTION:
URL:https://www.halling.medway.sch.uk/event/end-of-term-5/
END:VEVENT
END:VCALENDAR