BEGIN:VCALENDAR
VERSION:2.0
PRODID:-//Halling Primary School - ECPv6.15.20//NONSGML v1.0//EN
CALSCALE:GREGORIAN
METHOD:PUBLISH
X-WR-CALNAME:Halling Primary School
X-ORIGINAL-URL:https://www.halling.medway.sch.uk
X-WR-CALDESC:Events for Halling Primary School
REFRESH-INTERVAL;VALUE=DURATION:PT1H
X-Robots-Tag:noindex
X-PUBLISHED-TTL:PT1H
BEGIN:VTIMEZONE
TZID:Europe/London
BEGIN:DAYLIGHT
TZOFFSETFROM:+0000
TZOFFSETTO:+0100
TZNAME:BST
DTSTART:20230326T010000
END:DAYLIGHT
BEGIN:STANDARD
TZOFFSETFROM:+0100
TZOFFSETTO:+0000
TZNAME:GMT
DTSTART:20231029T010000
END:STANDARD
BEGIN:DAYLIGHT
TZOFFSETFROM:+0000
TZOFFSETTO:+0100
TZNAME:BST
DTSTART:20240331T010000
END:DAYLIGHT
BEGIN:STANDARD
TZOFFSETFROM:+0100
TZOFFSETTO:+0000
TZNAME:GMT
DTSTART:20241027T010000
END:STANDARD
BEGIN:DAYLIGHT
TZOFFSETFROM:+0000
TZOFFSETTO:+0100
TZNAME:BST
DTSTART:20250330T010000
END:DAYLIGHT
BEGIN:STANDARD
TZOFFSETFROM:+0100
TZOFFSETTO:+0000
TZNAME:GMT
DTSTART:20251026T010000
END:STANDARD
BEGIN:DAYLIGHT
TZOFFSETFROM:+0000
TZOFFSETTO:+0100
TZNAME:BST
DTSTART:20260329T010000
END:DAYLIGHT
BEGIN:STANDARD
TZOFFSETFROM:+0100
TZOFFSETTO:+0000
TZNAME:GMT
DTSTART:20261025T010000
END:STANDARD
END:VTIMEZONE
BEGIN:VEVENT
DTSTART;TZID=Europe/London:20241115T144500
DTEND;TZID=Europe/London:20241115T150000
DTSTAMP:20260420T110136
CREATED:20240730T132419Z
LAST-MODIFIED:20240730T132419Z
UID:17202-1731681900-1731682800@www.halling.medway.sch.uk
SUMMARY:Story Time Session
DESCRIPTION:
URL:https://www.halling.medway.sch.uk/event/story-time-session-5/
END:VEVENT
BEGIN:VEVENT
DTSTART;TZID=Europe/London:20241121T094500
DTEND;TZID=Europe/London:20241121T110000
DTSTAMP:20260420T110136
CREATED:20240730T132031Z
LAST-MODIFIED:20240730T132031Z
UID:17186-1732182300-1732186800@www.halling.medway.sch.uk
SUMMARY:Open Morning
DESCRIPTION:
URL:https://www.halling.medway.sch.uk/event/open-morning-6/
END:VEVENT
BEGIN:VEVENT
DTSTART;TZID=Europe/London:20241122T144500
DTEND;TZID=Europe/London:20241122T150000
DTSTAMP:20260420T110136
CREATED:20240730T132439Z
LAST-MODIFIED:20240730T132439Z
UID:17204-1732286700-1732287600@www.halling.medway.sch.uk
SUMMARY:Story Time Session
DESCRIPTION:
URL:https://www.halling.medway.sch.uk/event/story-time-session-6/
END:VEVENT
BEGIN:VEVENT
DTSTART;TZID=Europe/London:20241128T094500
DTEND;TZID=Europe/London:20241128T110000
DTSTAMP:20260420T110136
CREATED:20240730T132051Z
LAST-MODIFIED:20240730T132051Z
UID:17188-1732787100-1732791600@www.halling.medway.sch.uk
SUMMARY:Open Morning
DESCRIPTION:
URL:https://www.halling.medway.sch.uk/event/open-morning-7/
END:VEVENT
BEGIN:VEVENT
DTSTART;TZID=Europe/London:20241129T144500
DTEND;TZID=Europe/London:20241129T150000
DTSTAMP:20260420T110136
CREATED:20240730T132504Z
LAST-MODIFIED:20240730T132504Z
UID:17206-1732891500-1732892400@www.halling.medway.sch.uk
SUMMARY:Story Time Session
DESCRIPTION:
URL:https://www.halling.medway.sch.uk/event/story-time-session-7/
END:VEVENT
BEGIN:VEVENT
DTSTART;TZID=Europe/London:20241205T170000
DTEND;TZID=Europe/London:20241205T180000
DTSTAMP:20260420T110136
CREATED:20240730T132128Z
LAST-MODIFIED:20240730T132128Z
UID:17190-1733418000-1733421600@www.halling.medway.sch.uk
SUMMARY:Open Evening
DESCRIPTION:
URL:https://www.halling.medway.sch.uk/event/open-evening/
END:VEVENT
BEGIN:VEVENT
DTSTART;TZID=Europe/London:20241212T170000
DTEND;TZID=Europe/London:20241212T180000
DTSTAMP:20260420T110136
CREATED:20240730T132148Z
LAST-MODIFIED:20240730T132148Z
UID:17192-1734022800-1734026400@www.halling.medway.sch.uk
SUMMARY:Open Evening
DESCRIPTION:
URL:https://www.halling.medway.sch.uk/event/open-evening-2/
END:VEVENT
BEGIN:VEVENT
DTSTART;VALUE=DATE:20241220
DTEND;VALUE=DATE:20241221
DTSTAMP:20260420T110136
CREATED:20220907T113953Z
LAST-MODIFIED:20240730T131336Z
UID:12276-1734652800-1734739199@www.halling.medway.sch.uk
SUMMARY:Last day of Term 2
DESCRIPTION:
URL:https://www.halling.medway.sch.uk/event/last-day-of-term-2/
CATEGORIES:Term Dates
END:VEVENT
BEGIN:VEVENT
DTSTART;VALUE=DATE:20250106
DTEND;VALUE=DATE:20250107
DTSTAMP:20260420T110136
CREATED:20220907T113953Z
LAST-MODIFIED:20240730T131648Z
UID:12277-1736121600-1736207999@www.halling.medway.sch.uk
SUMMARY:Staff inset day - children not in school.
DESCRIPTION:
URL:https://www.halling.medway.sch.uk/event/staff-inset-day/
CATEGORIES:Term Dates
END:VEVENT
BEGIN:VEVENT
DTSTART;VALUE=DATE:20250107
DTEND;VALUE=DATE:20250108
DTSTAMP:20260420T110136
CREATED:20240110T080813Z
LAST-MODIFIED:20240730T131407Z
UID:16548-1736208000-1736294399@www.halling.medway.sch.uk
SUMMARY:First Day of Term 3
DESCRIPTION:
URL:https://www.halling.medway.sch.uk/event/first-day-of-term-3-4/
CATEGORIES:Term Dates
END:VEVENT
BEGIN:VEVENT
DTSTART;TZID=Europe/London:20250122T170000
DTEND;TZID=Europe/London:20250122T190000
DTSTAMP:20260420T110136
CREATED:20250116T150441Z
LAST-MODIFIED:20250116T150451Z
UID:18066-1737565200-1737572400@www.halling.medway.sch.uk
SUMMARY:Year 6 Prom
DESCRIPTION:
URL:https://www.halling.medway.sch.uk/event/prom/
END:VEVENT
BEGIN:VEVENT
DTSTART;VALUE=DATE:20250214
DTEND;VALUE=DATE:20250215
DTSTAMP:20260420T110136
CREATED:20240110T082406Z
LAST-MODIFIED:20240730T131351Z
UID:16579-1739491200-1739577599@www.halling.medway.sch.uk
SUMMARY:Last Day of Term 3
DESCRIPTION:
URL:https://www.halling.medway.sch.uk/event/last-day-of-term-3-2/
CATEGORIES:Term Dates
END:VEVENT
BEGIN:VEVENT
DTSTART;VALUE=DATE:20250224
DTEND;VALUE=DATE:20250225
DTSTAMP:20260420T110136
CREATED:20240110T082455Z
LAST-MODIFIED:20240730T131452Z
UID:16581-1740355200-1740441599@www.halling.medway.sch.uk
SUMMARY:First Day of Term 4
DESCRIPTION:
URL:https://www.halling.medway.sch.uk/event/first-day-of-term-4-2/
CATEGORIES:Term Dates
END:VEVENT
BEGIN:VEVENT
DTSTART;VALUE=DATE:20250314
DTEND;VALUE=DATE:20250315
DTSTAMP:20260420T110136
CREATED:20220907T114353Z
LAST-MODIFIED:20240730T131726Z
UID:12284-1741910400-1741996799@www.halling.medway.sch.uk
SUMMARY:Trust day - children not in school.
DESCRIPTION:
URL:https://www.halling.medway.sch.uk/event/trust-day-children-not-in-school-2/
END:VEVENT
BEGIN:VEVENT
DTSTART;VALUE=DATE:20250404
DTEND;VALUE=DATE:20250405
DTSTAMP:20260420T110136
CREATED:20240110T084030Z
LAST-MODIFIED:20250109T114655Z
UID:16611-1743724800-1743811199@www.halling.medway.sch.uk
SUMMARY:Last Day of Term 4
DESCRIPTION:Early pick up from 1:30pm (optional)
URL:https://www.halling.medway.sch.uk/event/last-day-of-term-4-2/
CATEGORIES:Term Dates
END:VEVENT
BEGIN:VEVENT
DTSTART;VALUE=DATE:20250422
DTEND;VALUE=DATE:20250423
DTSTAMP:20260420T110136
CREATED:20240110T084225Z
LAST-MODIFIED:20240730T131518Z
UID:16616-1745280000-1745366399@www.halling.medway.sch.uk
SUMMARY:First Day of Term 5
DESCRIPTION:
URL:https://www.halling.medway.sch.uk/event/first-day-of-term-5-3/
CATEGORIES:Term Dates
END:VEVENT
BEGIN:VEVENT
DTSTART;VALUE=DATE:20250424
DTEND;VALUE=DATE:20250425
DTSTAMP:20260420T110136
CREATED:20250424T124613Z
LAST-MODIFIED:20250424T124620Z
UID:18333-1745452800-1745539199@www.halling.medway.sch.uk
SUMMARY:MYG Netball | Years 5&6
DESCRIPTION:Years 5 & 6\, details to follow from Mr Harrison
URL:https://www.halling.medway.sch.uk/event/myg-netball-years-56/
CATEGORIES:School
END:VEVENT
BEGIN:VEVENT
DTSTART;TZID=Europe/London:20250424T080000
DTEND;TZID=Europe/London:20250424T170000
DTSTAMP:20260420T110136
CREATED:20250424T130426Z
LAST-MODIFIED:20250424T130426Z
UID:18385-1745481600-1745514000@www.halling.medway.sch.uk
SUMMARY:Owlets | Class Assembly
DESCRIPTION:Please arrive at 9:00am via the school hall doors
URL:https://www.halling.medway.sch.uk/event/owlets-class-assembly/
CATEGORIES:School
END:VEVENT
BEGIN:VEVENT
DTSTART;TZID=Europe/London:20250424T090000
DTEND;TZID=Europe/London:20250501T100000
DTSTAMP:20260420T110136
CREATED:20250424T124756Z
LAST-MODIFIED:20250424T124756Z
UID:18339-1745485200-1746093600@www.halling.medway.sch.uk
SUMMARY:Wombats | Class Assembly
DESCRIPTION:Please arrive at 9:00am via the school hall doors
URL:https://www.halling.medway.sch.uk/event/wombats-class-assembly/
CATEGORIES:School
END:VEVENT
BEGIN:VEVENT
DTSTART;TZID=Europe/London:20250430T150000
DTEND;TZID=Europe/London:20250430T170000
DTSTAMP:20260420T110136
CREATED:20250424T124701Z
LAST-MODIFIED:20250424T124714Z
UID:18336-1746025200-1746032400@www.halling.medway.sch.uk
SUMMARY:Aletheia Trust Football | Year 3 & 4
DESCRIPTION:Years 3 & 4\, details to follow from Mr Harrison
URL:https://www.halling.medway.sch.uk/event/aletheia-trust-football-year-3-4/
CATEGORIES:School
END:VEVENT
BEGIN:VEVENT
DTSTART;VALUE=DATE:20250505
DTEND;VALUE=DATE:20250506
DTSTAMP:20260420T110136
CREATED:20230427T153942Z
LAST-MODIFIED:20240730T131738Z
UID:15862-1746403200-1746489599@www.halling.medway.sch.uk
SUMMARY:Bank Holiday - Children do not attend
DESCRIPTION:
URL:https://www.halling.medway.sch.uk/event/bank-holiday-children-do-not-attend-2/
END:VEVENT
BEGIN:VEVENT
DTSTART;VALUE=DATE:20250507
DTEND;VALUE=DATE:20250508
DTSTAMP:20260420T110136
CREATED:20250424T124906Z
LAST-MODIFIED:20250424T124906Z
UID:18342-1746576000-1746662399@www.halling.medway.sch.uk
SUMMARY:Outdoor Classroom Day
DESCRIPTION:Details to follow from Mrs Coleman
URL:https://www.halling.medway.sch.uk/event/outdoor-classroom-day-2/
CATEGORIES:School
END:VEVENT
BEGIN:VEVENT
DTSTART;TZID=Europe/London:20250508T090000
DTEND;TZID=Europe/London:20250508T100000
DTSTAMP:20260420T110136
CREATED:20250424T124955Z
LAST-MODIFIED:20250424T124955Z
UID:18344-1746694800-1746698400@www.halling.medway.sch.uk
SUMMARY:Flamingos | Class Assembly
DESCRIPTION:Please arrive at 9:00am via the school hall doors
URL:https://www.halling.medway.sch.uk/event/flamingos-class-assembly/
CATEGORIES:School
END:VEVENT
BEGIN:VEVENT
DTSTART;TZID=Europe/London:20250508T152000
DTEND;TZID=Europe/London:20250508T160000
DTSTAMP:20260420T110136
CREATED:20250424T125045Z
LAST-MODIFIED:20250424T125045Z
UID:18346-1746717600-1746720000@www.halling.medway.sch.uk
SUMMARY:Open Class | 15:20 - 16:00
DESCRIPTION:
URL:https://www.halling.medway.sch.uk/event/open-class-1520-1600/
CATEGORIES:School
END:VEVENT
BEGIN:VEVENT
DTSTART;VALUE=DATE:20250512
DTEND;VALUE=DATE:20250516
DTSTAMP:20260420T110136
CREATED:20250424T125150Z
LAST-MODIFIED:20250424T125150Z
UID:18348-1747008000-1747353599@www.halling.medway.sch.uk
SUMMARY:Year 6 SATs Week
DESCRIPTION:
URL:https://www.halling.medway.sch.uk/event/year-6-sats-week-3/
CATEGORIES:School
END:VEVENT
BEGIN:VEVENT
DTSTART;VALUE=DATE:20250515
DTEND;VALUE=DATE:20250516
DTSTAMP:20260420T110136
CREATED:20250424T125355Z
LAST-MODIFIED:20250424T125355Z
UID:18353-1747267200-1747353599@www.halling.medway.sch.uk
SUMMARY:Census Day
DESCRIPTION:
URL:https://www.halling.medway.sch.uk/event/census-day-5/
CATEGORIES:School
END:VEVENT
BEGIN:VEVENT
DTSTART;VALUE=DATE:20250516
DTEND;VALUE=DATE:20250517
DTSTAMP:20260420T110136
CREATED:20250116T152202Z
LAST-MODIFIED:20250116T152207Z
UID:18077-1747353600-1747439999@www.halling.medway.sch.uk
SUMMARY:Year 6 St Andrews Lakes
DESCRIPTION:
URL:https://www.halling.medway.sch.uk/event/year-6-st-andrews-lakes/
END:VEVENT
BEGIN:VEVENT
DTSTART;VALUE=DATE:20250516
DTEND;VALUE=DATE:20250517
DTSTAMP:20260420T110136
CREATED:20250424T125431Z
LAST-MODIFIED:20250424T125431Z
UID:18356-1747353600-1747439999@www.halling.medway.sch.uk
SUMMARY:Medway Council Road Safety Talks
DESCRIPTION:Years 4 & 5\, in school
URL:https://www.halling.medway.sch.uk/event/medway-council-road-safety-talks/
CATEGORIES:School
END:VEVENT
BEGIN:VEVENT
DTSTART;TZID=Europe/London:20250520T090000
DTEND;TZID=Europe/London:20250520T100000
DTSTAMP:20260420T110136
CREATED:20250424T125516Z
LAST-MODIFIED:20250424T125516Z
UID:18358-1747731600-1747735200@www.halling.medway.sch.uk
SUMMARY:Ladybirds | Class Assembly
DESCRIPTION:
URL:https://www.halling.medway.sch.uk/event/ladybirds-class-assembly/
CATEGORIES:School
END:VEVENT
BEGIN:VEVENT
DTSTART;TZID=Europe/London:20250522T080000
DTEND;TZID=Europe/London:20250522T170000
DTSTAMP:20260420T110136
CREATED:20250424T125602Z
LAST-MODIFIED:20250424T125637Z
UID:18362-1747900800-1747933200@www.halling.medway.sch.uk
SUMMARY:MYG Tag Rugby
DESCRIPTION:Years 5 & 6\, details to follow from Mr Harrison
URL:https://www.halling.medway.sch.uk/event/myg-tag-rugby-2/
CATEGORIES:School
END:VEVENT
END:VCALENDAR